BEGIN:VCALENDAR
VERSION:2.0
PRODID:icalendar-ruby
CALSCALE:GREGORIAN
METHOD:PUBLISH
BEGIN:VEVENT
DTSTAMP:20260424T202047Z
UID:13-441198@ebpedinburg.com
DTSTART:20261026T150000Z
DTEND:20261026T160000Z
CLASS:PUBLIC
CREATED:20260424T133013
DESCRIPTION:Diving Deeper Bible Study
LAST-MODIFIED:20260424T133013
LOCATION:
SUMMARY:Diving Deeper Bible Study
URL;VALUE=URI:https://ebpedinburg.com/events/diving-deeper-bible-study/2026
 -10-26
ATTACH;FILENAME=divingdeeper.jpg;FMTTYPE=image/jpeg:https://dq5pwpg1q8ru0.c
 loudfront.net/2026/03/10/23/03/24/652da2e8-bae6-4baa-b13d-d49774ec898a/div
 ingdeeper.jpg
END:VEVENT
END:VCALENDAR
